BEGIN:VCALENDAR
PRODID:-//Brisbane City Council//NONSGML Events//EN
VERSION:2.0
CALSCALE:GREGORIAN
X-WR-TIMEZONE:Australia/Brisbane
METHOD:PUBLISH
BEGIN:VEVENT
DTSTART:20260611T000000Z
DTEND:20260611T010000Z
DTSTAMP:20260423T040651Z
UID:201756176
LOCATION:Wynnum Library, 145 Florence Street, Wynnum
SUMMARY:Tea and trivia
CATEGORIES:Library event
SEQUENCE:0
STATUS:CONFIRMED
DESCRIPTION:Enjoy a morning of fun by making friends and testing your knowledge with trivia questions. Individuals and groups welcome.
X-ALT-DESC;FMTTYPE=text/html:Enjoy a morning of fun by making friends and testing your knowledge with trivia questions. Individuals and groups welcome.
TRANSP:TRANSPARENT
END:VEVENT
END:VCALENDAR
