BEGIN:VCALENDAR
PRODID:-//Brisbane City Council//NONSGML Events//EN
VERSION:2.0
CALSCALE:GREGORIAN
X-WR-TIMEZONE:Australia/Brisbane
METHOD:PUBLISH
BEGIN:VEVENT
DTSTART:20260519T010000Z
DTEND:20260519T020000Z
DTSTAMP:20260421T093055Z
UID:198105623
LOCATION:Brisbane Square Library, 266 George Street, Brisbane City
SUMMARY:Thriving children: Benefits of bilingualism
CATEGORIES:Library event
SEQUENCE:0
STATUS:CONFIRMED
DESCRIPTION:Dr Susana Eisenchlas (Adjunct Lecturer, Griffith University).Should I speak English to my child? Dr Susana Eisenchlas (Adjunct Lecturer, Griffith University) will discuss bilingualism and its advantages for the child, the family and the community and will introduce strategies and tips to promote bilingual development in young children. Suitable for bilingual families.Bookings essential. To reserve your place, visit <a href="https://www.eventbrite.com.au/e/thriving-children-benefits-of-bilingualism-brisbane-square-library-tickets-1983490148428?aff=oddtdtcreator" target="_blank">Eventbrite </a>or call the library.<em>First 5 Forever is an initiative of the Queensland Government, coordinated by State Library of Queensland and delivered in partnership with local government.</em>
X-ALT-DESC;FMTTYPE=text/html:Dr Susana Eisenchlas (Adjunct Lecturer, Griffith University).<br/><br/>Should I speak English to my child? Dr Susana Eisenchlas (Adjunct Lecturer, Griffith University) will discuss bilingualism and its advantages for the child, the family and the community and will introduce strategies and tips to promote bilingual development in young children. Suitable for bilingual families.<br/><br/>Bookings essential. To reserve your place, visit <a href="https://www.eventbrite.com.au/e/thriving-children-benefits-of-bilingualism-brisbane-square-library-tickets-1983490148428?aff=oddtdtcreator" target="_blank">Eventbrite </a>or call the library.<br/><br/><em>First 5 Forever is an initiative of the Queensland Government, coordinated by State Library of Queensland and delivered in partnership with local government.</em>
TRANSP:TRANSPARENT
END:VEVENT
END:VCALENDAR
