BEGIN:VCALENDAR
PRODID:-//Brisbane City Council//NONSGML Events//EN
VERSION:2.0
CALSCALE:GREGORIAN
X-WR-TIMEZONE:Australia/Brisbane
METHOD:PUBLISH
BEGIN:VEVENT
DTSTART:20260516T000000Z
DTEND:20260516T010000Z
DTSTAMP:20260421T093054Z
UID:198602559
LOCATION:Holland Park Library, 81 Seville Road, Holland Park
SUMMARY:Thriving children: Benefits of bilingualism
CATEGORIES:Library event
SEQUENCE:0
STATUS:CONFIRMED
DESCRIPTION:Join Yuki Liao for this talk about supporting your child&#39;s early bilingual language development at home.Suitable for bilingual families.Yuki Liao is a Speech Language Pathologist, Department of Education. Join Yuki to learn about bilingualism and its advantages for your child, family and community. Enjoy an interactive workshop with strategies and tips to promote bilingualism at home. Suitable for bilingual families.Bookings essential. To reserve your place, visit <a href="https://www.eventbrite.com.au/e/thriving-children-benefits-of-bilingualism-holland-park-library-tickets-1983489372106?aff=oddtdtcreator" target="_blank">Eventbrite </a>or call the library.<em>First 5 Forever is an initiative of the Queensland Government, coordinated by State Library of Queensland and delivered in partnership with local government.</em>
X-ALT-DESC;FMTTYPE=text/html:Join Yuki Liao for this talk about supporting your child&#39;s early bilingual language development at home.<br/>Suitable for bilingual families.<br/><br/>Yuki Liao is a Speech Language Pathologist, Department of Education. Join Yuki to learn about bilingualism and its advantages for your child, family and community. Enjoy an interactive workshop with strategies and tips to promote bilingualism at home. Suitable for bilingual families.<br/><br/>Bookings essential. To reserve your place, visit <a href="https://www.eventbrite.com.au/e/thriving-children-benefits-of-bilingualism-holland-park-library-tickets-1983489372106?aff=oddtdtcreator" target="_blank">Eventbrite </a>or call the library.<br/><br/><em>First 5 Forever is an initiative of the Queensland Government, coordinated by State Library of Queensland and delivered in partnership with local government.</em>
TRANSP:TRANSPARENT
END:VEVENT
END:VCALENDAR
