BEGIN:VCALENDAR
PRODID:-//Brisbane City Council//NONSGML Events//EN
VERSION:2.0
CALSCALE:GREGORIAN
X-WR-TIMEZONE:Australia/Brisbane
METHOD:PUBLISH
BEGIN:VEVENT
DTSTART:20260523T000000Z
DTEND:20260523T013000Z
DTSTAMP:20260421T083419Z
UID:201599520
LOCATION:Indooroopilly Library, Indooroopilly Shopping Centre, Level 4 (next to Event Cinemas), 322 Moggill Road, Indooroopilly
SUMMARY:Thriving children: Benefits of bilingualism
CATEGORIES:Library event
SEQUENCE:0
STATUS:CONFIRMED
DESCRIPTION:Suitable for bilingual families.Join Professor Karen Dooley and Dr Danwei Gao, early years diversity language experts (Queensland University of Technology) who will share practical ways to support your bilingual child&rsquo;s language and literacy development prior to school.Bookings essential. To reserve your place, visit <a href="https://www.eventbrite.com.au/e/thriving-children-benefits-of-bilingualism-indooroopilly-library-tickets-1983490171497?aff=oddtdtcreator" target="_blank">Eventbrite </a>or call the library.<em>First 5 Forever is an initiative of the Queensland Government, coordinated by State Library of Queensland and delivered in partnership with local government.</em>
X-ALT-DESC;FMTTYPE=text/html:Suitable for bilingual families.<br/><br/>Join Professor Karen Dooley and Dr Danwei Gao, early years diversity language experts (Queensland University of Technology) who will share practical ways to support your bilingual child&rsquo;s language and literacy development prior to school.<br/><br/>Bookings essential. To reserve your place, visit <a href="https://www.eventbrite.com.au/e/thriving-children-benefits-of-bilingualism-indooroopilly-library-tickets-1983490171497?aff=oddtdtcreator" target="_blank">Eventbrite </a>or call the library.<br/><br/><em>First 5 Forever is an initiative of the Queensland Government, coordinated by State Library of Queensland and delivered in partnership with local government.</em>
TRANSP:TRANSPARENT
END:VEVENT
END:VCALENDAR
