BEGIN:VCALENDAR
PRODID:-//Brisbane City Council//NONSGML Events//EN
VERSION:2.0
CALSCALE:GREGORIAN
X-WR-TIMEZONE:Australia/Brisbane
METHOD:PUBLISH
BEGIN:VEVENT
DTSTART:20260523T220000Z
DTEND:20260523T230000Z
DTSTAMP:20260424T040948Z
UID:193765814
LOCATION:Bradbury Park, 91 Kitchener Road, Kedron
SUMMARY:Wheely Fun
CATEGORIES:Active and healthy
SEQUENCE:0
STATUS:CONFIRMED
DESCRIPTION:Riding&#39;s more fun on two wheels - in just one session our friendly trainer will help your young one make the transition from training wheels or balance bike to pedalling on two wheels, and provide some tips for how you can keep encouraging them.&nbsp;Presented as part of Council&#39;s Cycling Brisbane program.
X-ALT-DESC;FMTTYPE=text/html:Riding&#39;s more fun on two wheels - in just one session our friendly trainer will help your young one make the transition from training wheels or balance bike to pedalling on two wheels, and provide some tips for how you can keep encouraging them.&nbsp;<br/><br/>Presented as part of Council&#39;s Cycling Brisbane program.
TRANSP:TRANSPARENT
END:VEVENT
END:VCALENDAR
