BEGIN:VCALENDAR
PRODID:-//Brisbane City Council//NONSGML Events//EN
VERSION:2.0
CALSCALE:GREGORIAN
X-WR-TIMEZONE:Australia/Brisbane
METHOD:PUBLISH
BEGIN:VEVENT
DTSTART:20260615T233000Z
DTEND:20260616T020000Z
DTSTAMP:20260423T040651Z
UID:194915856
LOCATION:Wynnum Library, 145 Florence Street, Wynnum
SUMMARY:Writers of Wynnum Manly
CATEGORIES:Library event
SEQUENCE:0
STATUS:CONFIRMED
DESCRIPTION:Drop in and join other local writers for this monthly writers group
X-ALT-DESC;FMTTYPE=text/html:Drop in and join other local writers for this monthly writers group
TRANSP:TRANSPARENT
END:VEVENT
END:VCALENDAR
