BEGIN:VCALENDAR
PRODID:-//Brisbane City Council//NONSGML Events//EN
VERSION:2.0
CALSCALE:GREGORIAN
X-WR-TIMEZONE:Australia/Brisbane
METHOD:PUBLISH
BEGIN:VEVENT
DTSTART:20260803T080000Z
DTEND:20260803T090000Z
DTSTAMP:20260423T054445Z
UID:201503404
LOCATION:St Lucia Community Hall, 27 Guilfoyle Street, St Lucia
SUMMARY:Yoga
CATEGORIES:Fitness & well-being
SEQUENCE:0
STATUS:CONFIRMED
DESCRIPTION:<p>Come and Join us for a weekly yoga class organised by The Workshed Inner West Inc.</p><p>For more information, visit their&nbsp;<a href="https://theworkshed.org.au/" target="_blank">website</a>&nbsp;or <a href="https://www.facebook.com/TheWorkshed.InnerWest/" target="_blank">Facebook page</a>.</p>
X-ALT-DESC;FMTTYPE=text/html:<p>Come and Join us for a weekly yoga class organised by The Workshed Inner West Inc.</p><p>For more information, visit their&nbsp;<a href="https://theworkshed.org.au/" target="_blank">website</a>&nbsp;or <a href="https://www.facebook.com/TheWorkshed.InnerWest/" target="_blank">Facebook page</a>.</p>
TRANSP:TRANSPARENT
END:VEVENT
END:VCALENDAR
