BEGIN:VCALENDAR
PRODID:-//Brisbane City Council//NONSGML Events//EN
VERSION:2.0
CALSCALE:GREGORIAN
X-WR-TIMEZONE:Australia/Brisbane
METHOD:PUBLISH
BEGIN:VEVENT
DTSTART:20260622T223000Z
DTEND:20260622T233000Z
DTSTAMP:20260422T073345Z
UID:201684209
LOCATION:Twilight Street Park, 103 Sunset Road, Kenmore
SUMMARY:Yoga
CATEGORIES:Active and healthy events, Fitness & well-being, Free
SEQUENCE:0
STATUS:CONFIRMED
DESCRIPTION:Focus on a range of movements to relax the mind and body. Stretching, breathing, strength and balance exercises are included by incorporating standing poses and mat work into the session.
X-ALT-DESC;FMTTYPE=text/html:Focus on a range of movements to relax the mind and body. Stretching, breathing, strength and balance exercises are included by incorporating standing poses and mat work into the session.
TRANSP:TRANSPARENT
END:VEVENT
END:VCALENDAR
