BEGIN:VCALENDAR
PRODID:-//Brisbane City Council//NONSGML Events//EN
VERSION:2.0
CALSCALE:GREGORIAN
X-WR-TIMEZONE:Australia/Brisbane
METHOD:PUBLISH
BEGIN:VEVENT
DTSTART:20260724T060000Z
DTEND:20260724T070000Z
DTSTAMP:20260423T0407Z
UID:198142729
LOCATION:Wynnum Library, 145 Florence Street, Wynnum
SUMMARY:Young adult book club
CATEGORIES:Library event
SEQUENCE:0
STATUS:CONFIRMED
DESCRIPTION:Drop in to chat about what you have been reading and help others decide what to read. New members welcome. Ideal for those aged 12–17 years.
X-ALT-DESC;FMTTYPE=text/html:Drop in to chat about what you have been reading and help others decide what to read. New members welcome. Ideal for those aged 12–17 years.
TRANSP:TRANSPARENT
END:VEVENT
END:VCALENDAR
