BEGIN:VCALENDAR
PRODID:-//Brisbane City Council//NONSGML Events//EN
VERSION:2.0
CALSCALE:GREGORIAN
X-WR-TIMEZONE:Australia/Brisbane
METHOD:PUBLISH
BEGIN:VEVENT
DTSTART:20260508T090000Z
DTEND:20260508T120000Z
DTSTAMP:20260420T041139Z
UID:201103107
LOCATION:Brunswick Street Mall, Brunswick Street, Fortitude Valley
SUMMARY:Zac Weeks at Chattahoochee Honky Tonk Joes
CATEGORIES:Music
SEQUENCE:0
STATUS:CONFIRMED
DESCRIPTION:<p>Join us to enjoy <a href="https://zacweeksmusic.com/" target="_blank">Zac Weeks</a> at <a href="https://chattahoocheejoes.com.au" target="_blank">Chattahoochee Honky Tonk Joe&#39;s</a>&nbsp;(next level stage) in Brunswick Street Mall.</p><p>Zac Weeks&nbsp;is a contemporary country artist from Tasmania, known for energetic shows, authentic storytelling, and modern country hooks.</p><p>Presented as part of the <a href="https://myvalley.com.au/brunswick-street-live" target="_blank">Brunswick Street Live</a> program and independently funded.&nbsp;</p>
X-ALT-DESC;FMTTYPE=text/html:<p>Join us to enjoy <a href="https://zacweeksmusic.com/" target="_blank">Zac Weeks</a> at <a href="https://chattahoocheejoes.com.au" target="_blank">Chattahoochee Honky Tonk Joe&#39;s</a>&nbsp;(next level stage) in Brunswick Street Mall.</p><p>Zac Weeks&nbsp;is a contemporary country artist from Tasmania, known for energetic shows, authentic storytelling, and modern country hooks.</p><p>Presented as part of the <a href="https://myvalley.com.au/brunswick-street-live" target="_blank">Brunswick Street Live</a> program and independently funded.&nbsp;</p>
TRANSP:TRANSPARENT
END:VEVENT
END:VCALENDAR
