BEGIN:VCALENDAR
PRODID:-//Brisbane City Council//NONSGML Events//EN
VERSION:2.0
CALSCALE:GREGORIAN
X-WR-TIMEZONE:Australia/Brisbane
METHOD:PUBLISH
BEGIN:VEVENT
DTSTART:20260702T001500Z
DTEND:20260702T020000Z
DTSTAMP:20260423T030004Z
UID:198142763
LOCATION:Zillmere Library, Corner Jennings Street and Zillmere Road, Zillmere
SUMMARY:Zebras book club
CATEGORIES:Library event
SEQUENCE:0
STATUS:CONFIRMED
DESCRIPTION:Join our enthusiastic reading club on the first Thursday of each month at 10.15am to discuss our favourite books. Please call the library for more information.
X-ALT-DESC;FMTTYPE=text/html:Join our enthusiastic reading club on the first Thursday of each month at 10.15am to discuss our favourite books. Please call the library for more information.
TRANSP:TRANSPARENT
END:VEVENT
END:VCALENDAR
