BEGIN:VCALENDAR
PRODID:-//Brisbane City Council//NONSGML Events//EN
VERSION:2.0
CALSCALE:GREGORIAN
X-WR-TIMEZONE:Australia/Brisbane
METHOD:PUBLISH
BEGIN:VEVENT
DTSTART:20260605T000000Z
DTEND:20260605T020000Z
DTSTAMP:20260423T030011Z
UID:201756142
LOCATION:Zillmere Library, Corner Jennings Street and Zillmere Road, Zillmere
SUMMARY:Zillmere Library craft group
CATEGORIES:Library event
SEQUENCE:0
STATUS:CONFIRMED
DESCRIPTION:Join us for a chat and cup of tea every Friday while working on your own craft project. Please bring your own craft materials. New members welcome.
X-ALT-DESC;FMTTYPE=text/html:Join us for a chat and cup of tea every Friday while working on your own craft project. Please bring your own craft materials. New members welcome.
TRANSP:TRANSPARENT
END:VEVENT
END:VCALENDAR
