BEGIN:VCALENDAR
PRODID:-//Brisbane City Council//NONSGML Events//EN
VERSION:2.0
CALSCALE:GREGORIAN
X-WR-TIMEZONE:Australia/Brisbane
METHOD:PUBLISH
BEGIN:VEVENT
DTSTART:20271002T000000Z
DTEND:20271002T010000Z
DTSTAMP:20260423T030008Z
UID:201756163
LOCATION:Zillmere Library, Corner Jennings Street and Zillmere Road, Zillmere
SUMMARY:Zillmere Library garden club
CATEGORIES:Library event
SEQUENCE:0
STATUS:CONFIRMED
DESCRIPTION:Join other community members on the first Saturday of each month who enjoy gardening to share ideas and knowledge at the informal meet-up and learn about library resources and events with a gardening focus. Experienced and beginner gardeners are welcome.
X-ALT-DESC;FMTTYPE=text/html:Join other community members on the first Saturday of each month who enjoy gardening to share ideas and knowledge at the informal meet-up and learn about library resources and events with a gardening focus. Experienced and beginner gardeners are welcome.
TRANSP:TRANSPARENT
END:VEVENT
END:VCALENDAR
