BEGIN:VCALENDAR
PRODID:-//Brisbane City Council//NONSGML Events//EN
VERSION:2.0
CALSCALE:GREGORIAN
X-WR-TIMEZONE:Australia/Brisbane
METHOD:PUBLISH
BEGIN:VEVENT
DTSTART:20260821T223000Z
DTEND:20260822T071000Z
DTSTAMP:20260421T054252Z
UID:201590648
LOCATION:
SUMMARY:Women’s bus driver career open days - Toowong Bus Depot
CATEGORIES:Tours
SEQUENCE:0
STATUS:CONFIRMED
DESCRIPTION:<p>Have you ever wondered what it&rsquo;s like to be a Brisbane City Council bus operator?</p><p>Discover whether a career as a bus operator is right for you at the women-only open day (2 sessions: 8.30am-1.30pm or 12pm-5.10pm. Registration required). Take a behind-the-scenes tour of the depot, meet drivers and trainers, ask questions in a relaxed, pressure free environment, and even experience the thrill of driving a bus under the supervision of a qualified instructor.</p><p>No previous experience needed.</p><p><strong>Venue:&nbsp;</strong>Virginia Bus Depot, 11 Ferric Street, Virginia.</p><p>If you&rsquo;re unable to attend the open day, you can still explore the bus operator role by visiting <a href="https://www.livehire.com/careers/brisbanecitycouncil/job/D6YQT/8AV5QEMK3/bus-operator-driver">careers at Brisbane City Council</a>.</p><p>If you&#39;re interested in this event but are unable to attend this date and location, we&#39;re holding other depot open days.&nbsp;For more information, visit <a href="https://www.brisbane.qld.gov.au/about-council/careers-at-council/womens-bus-driver-career-open-days" target="_blank">women&#39;s bus driver career open days</a>.</p>
X-ALT-DESC;FMTTYPE=text/html:<p>Have you ever wondered what it&rsquo;s like to be a Brisbane City Council bus operator?</p><p>Discover whether a career as a bus operator is right for you at the women-only open day (2 sessions: 8.30am-1.30pm or 12pm-5.10pm. Registration required). Take a behind-the-scenes tour of the depot, meet drivers and trainers, ask questions in a relaxed, pressure free environment, and even experience the thrill of driving a bus under the supervision of a qualified instructor.</p><p>No previous experience needed.</p><p><strong>Venue:&nbsp;</strong>Virginia Bus Depot, 11 Ferric Street, Virginia.</p><p>If you&rsquo;re unable to attend the open day, you can still explore the bus operator role by visiting <a href="https://www.livehire.com/careers/brisbanecitycouncil/job/D6YQT/8AV5QEMK3/bus-operator-driver">careers at Brisbane City Council</a>.</p><p>If you&#39;re interested in this event but are unable to attend this date and location, we&#39;re holding other depot open days.&nbsp;For more information, visit <a href="https://www.brisbane.qld.gov.au/about-council/careers-at-council/womens-bus-driver-career-open-days" target="_blank">women&#39;s bus driver career open days</a>.</p>
TRANSP:TRANSPARENT
END:VEVENT
END:VCALENDAR
